BEGIN:VCALENDAR
VERSION:2.0
CALSCALE:GREGORIAN
PRODID:-//Diputació de Barcelona//DibaCMS//EN
BEGIN:VEVENT
UID:5605
DTSTAMP:20260423T032959
DTSTART:20121203T000000
DTEND:20131203T000000
SUMMARY:L'Ajuntament millora el paviment de l'àrea de jocs infantils de la plaça de Pere IV
LOCATION:
METHOD:PUBLISH
X-WR-CALNAME:llagosta@llagosta.cat
X-WR-TIMEZONE:Europe/Madrid
DESCRIPTION:L'Ajuntament de la Llagosta fa avui obres de substitució i millora del paviment del parc de jocs infantils de la plaça de Pere IV. Es tracta de la instal·lació d'un paviment de cautxú a una zona de 169 metres quadrats amb una inversió de 13.300 euros. 
URI:https://www.llagosta.cat/actualitat/noticies/lajuntament-millora-el-paviment-de-larea-de-jocs-infantils-de-la-placa-de-pere-iv.html
CLASS:PUBLIC
END:VEVENT
END:VCALENDAR
