BEGIN:VCALENDAR
VERSION:2.0
CALSCALE:GREGORIAN
PRODID:-//Diputació de Barcelona//DibaCMS//EN
BEGIN:VEVENT
UID:5604
DTSTAMP:20260423T031553
DTSTART:20121203T000000
DTEND:20131203T000000
SUMMARY:La Unión Llagostense empata a Tiana un partit que tenia pràcticament guanyat
LOCATION:
METHOD:PUBLISH
X-WR-CALNAME:llagosta@llagosta.cat
X-WR-TIMEZONE:Europe/Madrid
DESCRIPTION:El Fútbol Sala Unión Llagostense va empatar la jornada passada a cinc gols a la pista del Tiana. Els llagostencs guanyaven a falta d'un minut i mig per al final del partit per 3 a 5, però van cometre diverses errades i el Tiana ho va aprofitar per empatar.
URI:https://www.llagosta.cat/actualitat/noticies/la-union-llagostense-empata-a-tiana-un-partit-que-tenia-practicament-guanyat.html
CLASS:PUBLIC
END:VEVENT
END:VCALENDAR
