BEGIN:VCALENDAR
VERSION:2.0
CALSCALE:GREGORIAN
PRODID:-//Diputació de Barcelona//DibaCMS//EN
BEGIN:VEVENT
UID:5603
DTSTAMP:20260423T011652
DTSTART:20121203T000000
DTEND:20131203T000000
SUMMARY:El Viejas Glorias goleja el Júpiter i trenca una ratxa de quatre jornades sense guanyar
LOCATION:
METHOD:PUBLISH
X-WR-CALNAME:llagosta@llagosta.cat
X-WR-TIMEZONE:Europe/Madrid
DESCRIPTION:El Club Deportivo Viejas Glorias va guanyar dissabte per 4 a 1 el Júpiter i va trencar una ratxa de quatre jornades seguides sense aconseguir el triomf. L'equip llagostenc va ser molt superior al seu rival i, al descans, ja dominava per 4 a 0. 
URI:https://www.llagosta.cat/actualitat/noticies/el-viejas-glorias-goleja-el-jupiter-i-trenca-una-ratxa-de-quatre-jornades-sense-guanyar.html
CLASS:PUBLIC
END:VEVENT
END:VCALENDAR
