BEGIN:VCALENDAR
VERSION:2.0
CALSCALE:GREGORIAN
PRODID:-//Diputació de Barcelona//DibaCMS//EN
BEGIN:VEVENT
UID:5602
DTSTAMP:20260423T012545
DTSTART:20121203T000000
DTEND:20131203T000000
SUMMARY:Estela García, onzena en el Campionat d'Espanya infantil de natació sincronitzada
LOCATION:
METHOD:PUBLISH
X-WR-CALNAME:llagosta@llagosta.cat
X-WR-TIMEZONE:Europe/Madrid
DESCRIPTION:L'esportista de la Llagosta Estela García es va classificar en onzena posició en la categoria infantil en el Campionat d'Espanya de natació sincronitzada de figures, que es va disputar el cap de setmana a Valladolid. En aquesta competició, van participar 127 nedadores. 
URI:https://www.llagosta.cat/actualitat/noticies/estela-garcia-onzena-en-el-campionat-despanya-infantil-de-natacio-sincronitzada.html
CLASS:PUBLIC
END:VEVENT
END:VCALENDAR
