BEGIN:VCALENDAR
VERSION:2.0
CALSCALE:GREGORIAN
PRODID:-//Diputació de Barcelona//DibaCMS//EN
BEGIN:VEVENT
UID:5601
DTSTAMP:20260423T020142
DTSTART:20121130T000000
DTEND:20131130T000000
SUMMARY:Les AMPA organitzaran demà el segon Mercat Solidari a la plaça d'Antoni Baqué 
LOCATION:
METHOD:PUBLISH
X-WR-CALNAME:llagosta@llagosta.cat
X-WR-TIMEZONE:Europe/Madrid
DESCRIPTION:A la plaça d'Antoni Baqué se celebrarà demà el segon Mercat Solidari, impulsat pel col·lectiu d'AMPA de la nostra localitat. Al llarg de tot el dia, les associacions de mares i pares posaran a la venda diversos articles de segona mà a benefici de la Marató de TV3. 
URI:https://www.llagosta.cat/actualitat/noticies/les-ampa-organitzaran-dema-el-segon-mercat-solidari-a-la-placa-dantoni-baque-.html
CLASS:PUBLIC
END:VEVENT
END:VCALENDAR
