BEGIN:VCALENDAR
VERSION:2.0
CALSCALE:GREGORIAN
PRODID:-//Diputació de Barcelona//DibaCMS//EN
BEGIN:VEVENT
UID:5600
DTSTAMP:20260422T212544
DTSTART:20121130T000000
DTEND:20131130T000000
SUMMARY:Nanocosmos representarà High Society al Centre Cultural per a la Marató de TV3
LOCATION:
METHOD:PUBLISH
X-WR-CALNAME:llagosta@llagosta.cat
X-WR-TIMEZONE:Europe/Madrid
DESCRIPTION:Nanocosmos Teatre interpretarà aquest cap de setman l'obra High Society. La representació es farà dissabte a dos quarts de nou del vespre i diumenge a les set al Centre Cultural. 
URI:https://www.llagosta.cat/actualitat/noticies/nanocosmos-representara-high-society-al-centre-cultural-per-a-la-marato-de-tv3.html
CLASS:PUBLIC
END:VEVENT
END:VCALENDAR
