BEGIN:VCALENDAR
VERSION:2.0
CALSCALE:GREGORIAN
PRODID:-//Diputació de Barcelona//DibaCMS//EN
BEGIN:VEVENT
UID:5599
DTSTAMP:20260423T072331
DTSTART:20121130T000000
DTEND:20131130T000000
SUMMARY:L'EBC es desplaça a Santa Perpètua després de guanyar el Sant Andreu de Natzaret B
LOCATION:
METHOD:PUBLISH
X-WR-CALNAME:llagosta@llagosta.cat
X-WR-TIMEZONE:Europe/Madrid
DESCRIPTION:L'Esportiu Bàsquet Club de la Llagosta visitarà demà la pista del Santa Perpètua. Els de la nostra localitat es van retrobar la jornada passada amb la victòria en guanyar el Sant Andreu de Natzaret B per un ajustat 71 a 67.
URI:https://www.llagosta.cat/actualitat/noticies/lebc-es-desplaca-a-santa-perpetua-despres-de-guanyar-el-sant-andreu-de-natzaret-b.html
CLASS:PUBLIC
END:VEVENT
END:VCALENDAR
