BEGIN:VCALENDAR
VERSION:2.0
CALSCALE:GREGORIAN
PRODID:-//Diputació de Barcelona//DibaCMS//EN
BEGIN:VEVENT
UID:5598
DTSTAMP:20260423T125645
DTSTART:20121130T000000
DTEND:20131130T000000
SUMMARY:La Colla Gegantera farà demà diverses activitats per a la Marató de TV3
LOCATION:
METHOD:PUBLISH
X-WR-CALNAME:llagosta@llagosta.cat
X-WR-TIMEZONE:Europe/Madrid
DESCRIPTION:La Colla Gegantera de la Llagosta se sumarà demà als actes per recaptar fons per a la Marató de TV3. A partir de les onze, es faran a la plaça d'Antoni Baqué activitats entorn al Matí geganter.
URI:https://www.llagosta.cat/actualitat/noticies/la-colla-gegantera-fara-dema-diverses-activitats-per-a-la-marato-de-tv3.html
CLASS:PUBLIC
END:VEVENT
END:VCALENDAR
