BEGIN:VCALENDAR
VERSION:2.0
CALSCALE:GREGORIAN
PRODID:-//Diputació de Barcelona//DibaCMS//EN
BEGIN:VEVENT
UID:5597
DTSTAMP:20260423T011815
DTSTART:20121130T000000
DTEND:20131130T000000
SUMMARY:Diumenge, començarà una nova edició de la Setmana Cultural de la Gent Gran
LOCATION:
METHOD:PUBLISH
X-WR-CALNAME:llagosta@llagosta.cat
X-WR-TIMEZONE:Europe/Madrid
DESCRIPTION:La Setmana Cultural de la Gent Gran de la Llagosta s'inicia diumenge. Fins al dia 9 de desembre, es faran tot un seguit d'activitats festives, lúdiques i culturals.
URI:https://www.llagosta.cat/actualitat/noticies/diumenge-comencara-una-nova-edicio-de-la-setmana-cultural-de-la-gent-gran.html
CLASS:PUBLIC
END:VEVENT
END:VCALENDAR
