BEGIN:VCALENDAR
VERSION:2.0
CALSCALE:GREGORIAN
PRODID:-//Diputació de Barcelona//DibaCMS//EN
BEGIN:VEVENT
UID:5596
DTSTAMP:20260423T033815
DTSTART:20121130T000000
DTEND:20131130T000000
SUMMARY:La regidora de CiU, Mireia Egea, diu que se senten expulsats de l'equip de govern
LOCATION:
METHOD:PUBLISH
X-WR-CALNAME:llagosta@llagosta.cat
X-WR-TIMEZONE:Europe/Madrid
DESCRIPTION:La portaveu del grup municipal de Convergència i Unió, Mireia Egea, va assegurar ahir que l'aprovació del punt pel qual la regidora d'Economia i Hisenda, Marta Melgar, passa a estar en règim de dedicació exclusiva significa l'expulsió de CiU de l'equip de govern de l'Ajuntament de la Llagosta. Egea va votar en contra d'aquesta proposta i va explicar que durant més d'un mes no havia pogut arribar a cap acord amb els altres socis de govern per buscar una alternativa. 
URI:https://www.llagosta.cat/actualitat/noticies/la-regidora-de-ciu-mireia-egea-diu-que-se-senten-expulsats-de-lequip-de-govern.html
CLASS:PUBLIC
END:VEVENT
END:VCALENDAR
