BEGIN:VCALENDAR
VERSION:2.0
CALSCALE:GREGORIAN
PRODID:-//Diputació de Barcelona//DibaCMS//EN
BEGIN:VEVENT
UID:5595
DTSTAMP:20260423T071947
DTSTART:20121129T000000
DTEND:20131129T000000
SUMMARY:Mans Unides portarà a la Llagosta dissabte un concert solidari de gospel
LOCATION:
METHOD:PUBLISH
X-WR-CALNAME:llagosta@llagosta.cat
X-WR-TIMEZONE:Europe/Madrid
DESCRIPTION:Mans Unides organitzarà dissabte un concert solidari, protagonitzat pel grup de Gospel Montmeló, amb la finalitat d'aconseguir diners per construir un institut de secundària a la ciutat de Bo, a Serra Lleona. El recital es farà a la parròquia de Sant Josep de la Llagosta a les nou del vespre.
URI:https://www.llagosta.cat/actualitat/noticies/mans-unides-portara-a-la-llagosta-dissabte-un-concert-solidari-de-gospel.html
CLASS:PUBLIC
END:VEVENT
END:VCALENDAR
