BEGIN:VCALENDAR
VERSION:2.0
CALSCALE:GREGORIAN
PRODID:-//Diputació de Barcelona//DibaCMS//EN
BEGIN:VEVENT
UID:5594
DTSTAMP:20260423T034146
DTSTART:20121129T000000
DTEND:20131130T000000
SUMMARY:El municipi de la Llagosta se suma per primera vegada al Gran Recapte d'Aliments
LOCATION:
METHOD:PUBLISH
X-WR-CALNAME:llagosta@llagosta.cat
X-WR-TIMEZONE:Europe/Madrid
DESCRIPTION:Demà i dissabte es farà a la Llagosta, com a molts altres municipis catalans, el Gran Recapte d'Aliments a favor del Banc d'Aliments, organitzat a la nostra localitat per l'Ajuntament i l'Institut Marina. El Gran Recapte d’Aliments és una campanya de recollida d’aliments bàsics per aconseguir que les persones més necessitades rebin ajuda alimentària. 
URI:https://www.llagosta.cat/actualitat/noticies/el-municipi-de-la-llagosta-se-suma-per-primera-vegada-al-gran-recapte-daliments.html
CLASS:PUBLIC
END:VEVENT
END:VCALENDAR
