BEGIN:VCALENDAR
VERSION:2.0
CALSCALE:GREGORIAN
PRODID:-//Diputació de Barcelona//DibaCMS//EN
BEGIN:VEVENT
UID:5593
DTSTAMP:20260423T053907
DTSTART:20121129T000000
DTEND:20131129T000000
SUMMARY:La Llagosta acull demà diversos actes pel Dia Internacional contra la violència vers les dones
LOCATION:
METHOD:PUBLISH
X-WR-CALNAME:llagosta@llagosta.cat
X-WR-TIMEZONE:Europe/Madrid
DESCRIPTION:A la Llagosta se celebraran demà diversos actes per commemorar el Dia Internacional contra la violència vers les dones. Una jornada formativa per a professionals, un espectacle de dansa i teatre i la lectura del manifest són les activitats programades sota el lema Això no és un joc!
URI:https://www.llagosta.cat/actualitat/noticies/la-llagosta-acull-dema-diversos-actes-pel-dia-internacional-contra-la-violencia-vers-les-dones.html
CLASS:PUBLIC
END:VEVENT
END:VCALENDAR
