BEGIN:VCALENDAR
VERSION:2.0
CALSCALE:GREGORIAN
PRODID:-//Diputació de Barcelona//DibaCMS//EN
BEGIN:VEVENT
UID:5592
DTSTAMP:20260423T054047
DTSTART:20121129T000000
DTEND:20131129T000000
SUMMARY:El ple debat aquesta tarda la sortida de l'Ajuntament del Consorci Teledigital Mollet
LOCATION:
METHOD:PUBLISH
X-WR-CALNAME:llagosta@llagosta.cat
X-WR-TIMEZONE:Europe/Madrid
DESCRIPTION:L’Ajuntament de la Llagosta sotmetrà aquesta tarda a aprovació la seva sortida del Consorci Teledigital Mollet, que gestiona el canal de televisió digital terrestre Vallès Visió. Aquest és un dels punts més destacats del ple ordinari del mes de novembre, que se celebrarà a partir de les set de la tarda. 
URI:https://www.llagosta.cat/actualitat/noticies/el-ple-debat-aquesta-tarda-la-sortida-de-lajuntament-del-consorci-teledigital-mollet.html
CLASS:PUBLIC
END:VEVENT
END:VCALENDAR
