BEGIN:VCALENDAR
VERSION:2.0
CALSCALE:GREGORIAN
PRODID:-//Diputació de Barcelona//DibaCMS//EN
BEGIN:VEVENT
UID:5591
DTSTAMP:20260423T033424
DTSTART:20121129T000000
DTEND:20131129T000000
SUMMARY:El Joventut Handbol La Llagosta suma una nova victòria a la pista del Pau Casals
LOCATION:
METHOD:PUBLISH
X-WR-CALNAME:llagosta@llagosta.cat
X-WR-TIMEZONE:Europe/Madrid
DESCRIPTION:El Joventut Handbol La Llagosta continua imparable al grup A de la Tercera Divisió. Els de la nostra localitat van guanyar la jornada passada per 18 a 26 el Pau Casals de Sabadell i es mantenen líders en solitari de la competició.
URI:https://www.llagosta.cat/actualitat/noticies/el-joventut-handbol-la-llagosta-suma-una-nova-victoria-a-la-pista-del-pau-casals.html
CLASS:PUBLIC
END:VEVENT
END:VCALENDAR
