BEGIN:VCALENDAR
VERSION:2.0
CALSCALE:GREGORIAN
PRODID:-//Diputació de Barcelona//DibaCMS//EN
BEGIN:VEVENT
UID:5590
DTSTAMP:20260423T015122
DTSTART:20121129T000000
DTEND:20131129T000000
SUMMARY:El Vallag perd a casa contra el Palautordera (30-34) i baixa fins a la sisena posició
LOCATION:
METHOD:PUBLISH
X-WR-CALNAME:llagosta@llagosta.cat
X-WR-TIMEZONE:Europe/Madrid
DESCRIPTION:El sènior de l'Handbol Club Vallag de la Llagosta va perdre dissabte contra el Palautordera per 30 a 34. Aquesta és la tercera derrota que encaixa aquesta temporada el conjunt llagostenc.
URI:https://www.llagosta.cat/actualitat/noticies/el-vallag-perd-a-casa-contra-el-palautordera-30-34-i-baixa-fins-a-la-sisena-posicio.html
CLASS:PUBLIC
END:VEVENT
END:VCALENDAR
