BEGIN:VCALENDAR
VERSION:2.0
CALSCALE:GREGORIAN
PRODID:-//Diputació de Barcelona//DibaCMS//EN
BEGIN:VEVENT
UID:5589
DTSTAMP:20260422T234456
DTSTART:20121128T000000
DTEND:20131128T000000
SUMMARY:ACIS presentarà aquesta tarda el seu nou web al saló de plens de l'Ajuntament
LOCATION:
METHOD:PUBLISH
X-WR-CALNAME:llagosta@llagosta.cat
X-WR-TIMEZONE:Europe/Madrid
DESCRIPTION:L'Associació de Comerciants i Serveis (ACIS) de la Llagosta farà aquesta tarda la presentació del seu nou web. L'acte tindrà lloc a dos quarts de nou del vespre a la Sala de plens de l'Ajuntament de la Llagosta. Amb aquesta nova eina, ACIS vol donar una empenta a l'associació i donar a conèixer a la població el comerç local. 
URI:https://www.llagosta.cat/actualitat/noticies/acis-presentara-aquesta-tarda-el-seu-nou-web-al-salo-de-plens-de-lajuntament.html
CLASS:PUBLIC
END:VEVENT
END:VCALENDAR
