BEGIN:VCALENDAR
VERSION:2.0
CALSCALE:GREGORIAN
PRODID:-//Diputació de Barcelona//DibaCMS//EN
BEGIN:VEVENT
UID:5588
DTSTAMP:20260423T114121
DTSTART:20121128T000000
DTEND:20131128T000000
SUMMARY:Estefa Jémez, del CD La Concòrdia, amb la selecció catalana de futbol sala sub-23
LOCATION:
METHOD:PUBLISH
X-WR-CALNAME:llagosta@llagosta.cat
X-WR-TIMEZONE:Europe/Madrid
DESCRIPTION:La jugadora del Club Deportivo La Concòrdia Estefa Jémez ha estat convocada novament per la selecció catalana de futbol sala femení sub-23. Estefa està preparant-se per participar en el Campionat d'Espanya de seleccions autonòmiques.
URI:https://www.llagosta.cat/actualitat/noticies/estefa-jemez-del-cd-la-concordia-amb-la-seleccio-catalana-de-futbol-sala-sub-23.html
CLASS:PUBLIC
END:VEVENT
END:VCALENDAR
