BEGIN:VCALENDAR
VERSION:2.0
CALSCALE:GREGORIAN
PRODID:-//Diputació de Barcelona//DibaCMS//EN
BEGIN:VEVENT
UID:5587
DTSTAMP:20260422T215345
DTSTART:20121128T000000
DTEND:20131128T000000
SUMMARY:La Concòrdia empata a casa contra l'Altafulla però es manté en primera posició
LOCATION:
METHOD:PUBLISH
X-WR-CALNAME:llagosta@llagosta.cat
X-WR-TIMEZONE:Europe/Madrid
DESCRIPTION:El Club Deportivo La Concòrdia va empatar el cap de setmana passat a dos gols davant de l'Altafulla. Les de la nostra localitat continuen liderant la competició i la propera jornada visitaran la pista del Riudellots.
URI:https://www.llagosta.cat/actualitat/noticies/la-concordia-empata-a-casa-contra-laltafulla-pero-es-mante-en-primera-posicio.html
CLASS:PUBLIC
END:VEVENT
END:VCALENDAR
