BEGIN:VCALENDAR
VERSION:2.0
CALSCALE:GREGORIAN
PRODID:-//Diputació de Barcelona//DibaCMS//EN
BEGIN:VEVENT
UID:5586
DTSTAMP:20260423T051609
DTSTART:20121128T000000
DTEND:20131128T000000
SUMMARY:El Consistori publica al web municipal la Guia d'Activitats i Serveis Educatius
LOCATION:
METHOD:PUBLISH
X-WR-CALNAME:llagosta@llagosta.cat
X-WR-TIMEZONE:Europe/Madrid
DESCRIPTION:L’Ajuntament ha editat la nova Guia d’Ac­ti­vi­tats i Serveis Educatius. El document, adreçat als centres educatius de la nostra localitat, es pot consultar al web municipal www.llagosta.cat a l’apartat d’educació, in­fàn­cia i joventut. 
URI:https://www.llagosta.cat/actualitat/noticies/el-consistori-publica-al-web-municipal-la-guia-dactivitats-i-serveis-educatius.html
CLASS:PUBLIC
END:VEVENT
END:VCALENDAR
