BEGIN:VCALENDAR
VERSION:2.0
CALSCALE:GREGORIAN
PRODID:-//Diputació de Barcelona//DibaCMS//EN
BEGIN:VEVENT
UID:5585
DTSTAMP:20260423T050840
DTSTART:20121128T000000
DTEND:20131128T000000
SUMMARY:L'Ajuntament presenta els projectes de plans de participació ciutadana i acció cultural
LOCATION:
METHOD:PUBLISH
X-WR-CALNAME:llagosta@llagosta.cat
X-WR-TIMEZONE:Europe/Madrid
DESCRIPTION:L'Ajuntament de la Llagosta elaborarà, amb la col·laboració de la Diputació de Barcelona, un pla de participació ciutadana i un altre d'acció cultural. L'acte de presentació d'aquests projectes a les entitats va tenir lloc ahir per la tarda al saló de plens del Consistori, que va registrar una gran afluència de públic.
URI:https://www.llagosta.cat/actualitat/noticies/lajuntament-presenta-els-projectes-de-plans-de-participacio-ciutadana-i-accio-cultural.html
CLASS:PUBLIC
END:VEVENT
END:VCALENDAR
