BEGIN:VCALENDAR
VERSION:2.0
CALSCALE:GREGORIAN
PRODID:-//Diputació de Barcelona//DibaCMS//EN
BEGIN:VEVENT
UID:5584
DTSTAMP:20260423T092210
DTSTART:20121127T000000
DTEND:20131127T000000
SUMMARY:La cavalcada de Reis arribarà a la Llagosta amb importants novetats
LOCATION:
METHOD:PUBLISH
X-WR-CALNAME:llagosta@llagosta.cat
X-WR-TIMEZONE:Europe/Madrid
DESCRIPTION:La cavalcada de Reis de les properes festes de Nadal presentarà aquest any canvis importants. Enguany, els infants de la nostra localitat podran donar la seva carta en mà als Reis Mags d'Orient en acabar el recorregut que faran pels carrers de la nostra localitat. 
URI:https://www.llagosta.cat/actualitat/noticies/la-cavalcada-de-reis-arribara-a-la-llagosta-amb-importants-novetats.html
CLASS:PUBLIC
END:VEVENT
END:VCALENDAR
