BEGIN:VCALENDAR
VERSION:2.0
CALSCALE:GREGORIAN
PRODID:-//Diputació de Barcelona//DibaCMS//EN
BEGIN:VEVENT
UID:5583
DTSTAMP:20260423T011915
DTSTART:20121127T000000
DTEND:20131127T000000
SUMMARY:El Servei Local de Català va presentar la 17a edició del Voluntariat per la llengua
LOCATION:
METHOD:PUBLISH
X-WR-CALNAME:llagosta@llagosta.cat
X-WR-TIMEZONE:Europe/Madrid
DESCRIPTION:Can Pelegrí va acollir dimecres la presentació de la 17a edició del Voluntariat per la llengua de la Llagosta. En aquesta ocasió s’han constituït 13 parelles, que han començat a quedar una hora a la setmana per parlar en català.
URI:https://www.llagosta.cat/actualitat/noticies/el-servei-local-de-catala-va-presentar-la-17a-edicio-del-voluntariat-per-la-llengua.html
CLASS:PUBLIC
END:VEVENT
END:VCALENDAR
