BEGIN:VCALENDAR
VERSION:2.0
CALSCALE:GREGORIAN
PRODID:-//Diputació de Barcelona//DibaCMS//EN
BEGIN:VEVENT
UID:5582
DTSTAMP:20260423T090637
DTSTART:20121127T000000
DTEND:20131127T000000
SUMMARY:La firma SERSA comença a renovar els contenidors de recollida d'escombraries
LOCATION:
METHOD:PUBLISH
X-WR-CALNAME:llagosta@llagosta.cat
X-WR-TIMEZONE:Europe/Madrid
DESCRIPTION:L'empresa SERSA ha començat a instal·lar els nous contenidors de recollida de residus sòlids de rebuig a la Llagosta. Aquesta firma es va fer càrrec l'1 de novembre del servei de neteja viària i la recollida d'escombraries a la nostra localitat. 
URI:https://www.llagosta.cat/actualitat/noticies/la-firma-sersa-comenca-a-renovar-els-contenidors-de-recollida-descombraries.html
CLASS:PUBLIC
END:VEVENT
END:VCALENDAR
