BEGIN:VCALENDAR
VERSION:2.0
CALSCALE:GREGORIAN
PRODID:-//Diputació de Barcelona//DibaCMS//EN
BEGIN:VEVENT
UID:5581
DTSTAMP:20260423T125545
DTSTART:20121127T000000
DTEND:20131127T000000
SUMMARY:Es posa en marxa un servei d'informació i acollida a la nova ciutadania a Can Pelegrí
LOCATION:
METHOD:PUBLISH
X-WR-CALNAME:llagosta@llagosta.cat
X-WR-TIMEZONE:Europe/Madrid
DESCRIPTION:L'Ajuntament de la Llagosta ha posat en marxa aquesta setmana a Can Pelegrí un servei integral d'informació i acollida a la nova ciutadania. Aquest servei inclou suport i assessorament jurídic en matèria d'estrangeria per atendre les sol·licituds d'aquest col·lectiu. 
URI:https://www.llagosta.cat/actualitat/noticies/es-posa-en-marxa-un-servei-dinformacio-i-acollida-a-la-nova-ciutadania-a-can-pelegri.html
CLASS:PUBLIC
END:VEVENT
END:VCALENDAR
