BEGIN:VCALENDAR
VERSION:2.0
CALSCALE:GREGORIAN
PRODID:-//Diputació de Barcelona//DibaCMS//EN
BEGIN:VEVENT
UID:5580
DTSTAMP:20260423T092446
DTSTART:20121127T000000
DTEND:20131127T000000
SUMMARY:El Viejas Glorias, amb moltes baixes, empata al camp del Castic (1-1)
LOCATION:
METHOD:PUBLISH
X-WR-CALNAME:llagosta@llagosta.cat
X-WR-TIMEZONE:Europe/Madrid
DESCRIPTION:El Club Deportivo Viejas Glorias va tornar a empatar el cap de setmana passat; en aquesta ocasió al camp de Castic. Els de la nostra localitat no van poder passar de l'1 a 1. La propera jornada, els llagostencs rebran la visita del Júpiter.
URI:https://www.llagosta.cat/actualitat/noticies/el-viejas-glorias-amb-moltes-baixes-empata-al-camp-del-castic-1-1.html
CLASS:PUBLIC
END:VEVENT
END:VCALENDAR
