BEGIN:VCALENDAR
VERSION:2.0
CALSCALE:GREGORIAN
PRODID:-//Diputació de Barcelona//DibaCMS//EN
BEGIN:VEVENT
UID:5579
DTSTAMP:20260423T095958
DTSTART:20121127T000000
DTEND:20131127T000000
SUMMARY:Estela García competirà el proper cap de setmana en el Campionat d'Espanya
LOCATION:
METHOD:PUBLISH
X-WR-CALNAME:llagosta@llagosta.cat
X-WR-TIMEZONE:Europe/Madrid
DESCRIPTION:L'esportista de la Llagosta Estela García participarà el proper cap de setmana en el Campionat d'Espanya de natació sincronitzada de figures, que es disputarà a Valladolid. García competirà en les categories júnior i infantil. 
URI:https://www.llagosta.cat/actualitat/noticies/estela-garcia-competira-el-proper-cap-de-setmana-en-el-campionat-despanya.html
CLASS:PUBLIC
END:VEVENT
END:VCALENDAR
