BEGIN:VCALENDAR
VERSION:2.0
CALSCALE:GREGORIAN
PRODID:-//Diputació de Barcelona//DibaCMS//EN
BEGIN:VEVENT
UID:5578
DTSTAMP:20260423T052644
DTSTART:20121126T000000
DTEND:20131126T000000
SUMMARY:El Casal Infantil de la Llagosta va celebrar dijous el Dia Internacional de la Música
LOCATION:
METHOD:PUBLISH
X-WR-CALNAME:llagosta@llagosta.cat
X-WR-TIMEZONE:Europe/Madrid
DESCRIPTION:El Casal Infantil de la Llagosta va fer dijous una activitat més dins del programa Casal Obert. En concret, el Casal Infantil va acollir un acte per celebrar el Dia Internacional de la Música, amb audicions dels clàssics i la construcció d'instruments inventats amb materials diversos.
URI:https://www.llagosta.cat/actualitat/noticies/el-casal-infantil-de-la-llagosta-va-celebrar-dijous-el-dia-internacional-de-la-musica.html
CLASS:PUBLIC
END:VEVENT
END:VCALENDAR
