BEGIN:VCALENDAR
VERSION:2.0
CALSCALE:GREGORIAN
PRODID:-//Diputació de Barcelona//DibaCMS//EN
BEGIN:VEVENT
UID:5577
DTSTAMP:20260423T034526
DTSTART:20121126T000000
DTEND:20131126T000000
SUMMARY:L'Ajuntament redactarà uns plans de participació ciutadana i acció cultural
LOCATION:
METHOD:PUBLISH
X-WR-CALNAME:llagosta@llagosta.cat
X-WR-TIMEZONE:Europe/Madrid
DESCRIPTION:L'Ajuntament de la Llagosta farà demà la presentació pública dels projectes d'elaboració dels plans de participació ciutadana i d'acció cultural de la nostra localitat. L'acte tindrà lloc a les vuit del vespre a la sala de Plens de l'edifici consistorial.
URI:https://www.llagosta.cat/actualitat/noticies/lajuntament-redactara-uns-plans-de-participacio-ciutadana-i-accio-cultural.html
CLASS:PUBLIC
END:VEVENT
END:VCALENDAR
