BEGIN:VCALENDAR
VERSION:2.0
CALSCALE:GREGORIAN
PRODID:-//Diputació de Barcelona//DibaCMS//EN
BEGIN:VEVENT
UID:5576
DTSTAMP:20260423T110936
DTSTART:20121126T000000
DTEND:20131126T000000
SUMMARY:La Llagosta + Activa, molt satisfeta amb el concert solidari que va organitzar divendres
LOCATION:
METHOD:PUBLISH
X-WR-CALNAME:llagosta@llagosta.cat
X-WR-TIMEZONE:Europe/Madrid
DESCRIPTION:El col·lectiu La Llagosta + Activa ha fet un balanç molt positiu del concert solidari que va organitzar divendres. L'acte va comptar amb una molt bona acollida de públic i va complir amb l'objectiu de recaptar diners, que es dedicaran a ajuts socials a la nostra localitat.
URI:https://www.llagosta.cat/actualitat/noticies/la-llagosta--activa-molt-satisfeta-amb-el-concert-solidari-que-va-organitzar-divendres.html
CLASS:PUBLIC
END:VEVENT
END:VCALENDAR
