BEGIN:VCALENDAR
VERSION:2.0
CALSCALE:GREGORIAN
PRODID:-//Diputació de Barcelona//DibaCMS//EN
BEGIN:VEVENT
UID:5575
DTSTAMP:20260423T093142
DTSTART:20121126T000000
DTEND:20131126T000000
SUMMARY:La Unión Llagostense derrota el Sant Julià de Ramis B i suma el vuitè triomf de la temporada
LOCATION:
METHOD:PUBLISH
X-WR-CALNAME:llagosta@llagosta.cat
X-WR-TIMEZONE:Europe/Madrid
DESCRIPTION:El Fútbol Sala Unión Llagostense va sumar dissabte la vuitena victòria de la temporada en guanyar el Sant Julià de Ramis B per 4 a 1. Els de la nostra localitat mantenen la segona posició, a tres punts del líder, l'Esplais, i empatats amb el tercer, el Ripoll.
URI:https://www.llagosta.cat/actualitat/noticies/la-union-llagostense-derrota-el-sant-julia-de-ramis-b-i-suma-el-vuite-triomf-de-la-temporada.html
CLASS:PUBLIC
END:VEVENT
END:VCALENDAR
