BEGIN:VCALENDAR
VERSION:2.0
CALSCALE:GREGORIAN
PRODID:-//Diputació de Barcelona//DibaCMS//EN
BEGIN:VEVENT
UID:5574
DTSTAMP:20260423T052610
DTSTART:20121126T000000
DTEND:20131126T000000
SUMMARY:El PSC guanya a la Llagosta i ICV-EUiA passa a ser la segona llista més votada
LOCATION:
METHOD:PUBLISH
X-WR-CALNAME:llagosta@llagosta.cat
X-WR-TIMEZONE:Europe/Madrid
DESCRIPTION:El Partit dels Socialistes de Catalunya va ser ahir la formació més votada a la Llagosta en les eleccions al Parlament. La participació va ser d'un 65%, onze punts més que als anteriors comicis autonòmics i la jornada electoral va transcórrer amb total normalitat a la nostra localitat. 
URI:https://www.llagosta.cat/actualitat/noticies/el-psc-guanya-a-la-llagosta-i-icv-euia-passa-a-ser-la-segona-llista-mes-votada.html
CLASS:PUBLIC
END:VEVENT
END:VCALENDAR
