BEGIN:VCALENDAR
VERSION:2.0
CALSCALE:GREGORIAN
PRODID:-//Diputació de Barcelona//DibaCMS//EN
BEGIN:VEVENT
UID:5573
DTSTAMP:20260423T110543
DTSTART:20121123T000000
DTEND:20131123T000000
SUMMARY:El grup la Feria farà demà un passatge del terror per a la Marató de TV3
LOCATION:
METHOD:PUBLISH
X-WR-CALNAME:llagosta@llagosta.cat
X-WR-TIMEZONE:Europe/Madrid
DESCRIPTION:Aquest cap de setmana es desenvoluparà a la Llagosta una activitat relacionada amb la Marató de TV3. Concretament, el Passatge del terror, que es farà demà a l'antic Centre Cultural del carrer de la Florida.
URI:https://www.llagosta.cat/actualitat/noticies/el-grup-la-feria-fara-dema-un-passatge-del-terror-per-a-la-marato-de-tv3.html
CLASS:PUBLIC
END:VEVENT
END:VCALENDAR
