BEGIN:VCALENDAR
VERSION:2.0
CALSCALE:GREGORIAN
PRODID:-//Diputació de Barcelona//DibaCMS//EN
BEGIN:VEVENT
UID:5572
DTSTAMP:20260423T130857
DTSTART:20121123T000000
DTEND:20131123T000000
SUMMARY:La Concòrdia rebrà diumenge la visita de l'Altafulla després de golejar el Castellbisbal
LOCATION:
METHOD:PUBLISH
X-WR-CALNAME:llagosta@llagosta.cat
X-WR-TIMEZONE:Europe/Madrid
DESCRIPTION:El Club Deportivo La Concòrdia jugarà diumenge al Complex Esportiu Municipal El Turó contra l'Altafulla. Les de la nostra localitat continuen líders destacades de la Divisió d'Honor femenina de futbol sala després de derrotar per un clar 0 a 7 el Castellbisbal.
URI:https://www.llagosta.cat/actualitat/noticies/la-concordia-rebra-diumenge-la-visita-de-laltafulla-despres-de-golejar-el-castellbisbal.html
CLASS:PUBLIC
END:VEVENT
END:VCALENDAR
