BEGIN:VCALENDAR
VERSION:2.0
CALSCALE:GREGORIAN
PRODID:-//Diputació de Barcelona//DibaCMS//EN
BEGIN:VEVENT
UID:5571
DTSTAMP:20260423T070652
DTSTART:20121123T000000
DTEND:20131123T000000
SUMMARY:El sènior de l'EBC encaixa la quarta derrota seguida a la pista del Martorelles
LOCATION:
METHOD:PUBLISH
X-WR-CALNAME:llagosta@llagosta.cat
X-WR-TIMEZONE:Europe/Madrid
DESCRIPTION:L'Esportiu Bàsquet Club de la Llagosta rebrà aquest cap de setmana la visita del Sant Andreu de Natzaret B. Els de la nostra localitat van sumar la jornada passada una nova derrota, en perdre a la pista del Martorelles per 67 a 57.
URI:https://www.llagosta.cat/actualitat/noticies/el-senior-de-lebc-encaixa-la-quarta-derrota-seguida-a-la-pista-del-martorelles.html
CLASS:PUBLIC
END:VEVENT
END:VCALENDAR
