BEGIN:VCALENDAR
VERSION:2.0
CALSCALE:GREGORIAN
PRODID:-//Diputació de Barcelona//DibaCMS//EN
BEGIN:VEVENT
UID:5570
DTSTAMP:20260423T111417
DTSTART:20121123T000000
DTEND:20131121T000000
SUMMARY:Els gegants de la Llagosta participaran diumenge en la Trobada d'Aiguafreda
LOCATION:
METHOD:PUBLISH
X-WR-CALNAME:llagosta@llagosta.cat
X-WR-TIMEZONE:Europe/Madrid
DESCRIPTION:La Colla Gegantera de la Llagosta participarà diumenge en la 22a Trobada d'Aiguafreda. La intenció de l'entitat és anar amb els tres gegants de la nostra població, sempre que hi hagi un nombre suficient d'acompanyants. Aquesta serà la darrera sortida de l'any dels gegants de la Llagosta.
URI:https://www.llagosta.cat/actualitat/noticies/els-gegants-de-la-llagosta-participaran-diumenge-en-la-trobada-daiguafreda.html
CLASS:PUBLIC
END:VEVENT
END:VCALENDAR
