BEGIN:VCALENDAR
VERSION:2.0
CALSCALE:GREGORIAN
PRODID:-//Diputació de Barcelona//DibaCMS//EN
BEGIN:VEVENT
UID:5569
DTSTAMP:20260423T072305
DTSTART:20121123T000000
DTEND:20131123T000000
SUMMARY:Diumenge, estan cridats a les urnes més de 9.600 ciutadans de la Llagosta
LOCATION:
METHOD:PUBLISH
X-WR-CALNAME:llagosta@llagosta.cat
X-WR-TIMEZONE:Europe/Madrid
DESCRIPTION:Més de 9.600 veïns de la Llagosta tindran dret a vot a les eleccions al Parlament de Catalunya que se celebraran diumenge. Els col·legis electorals obriran les seves portes a les nou del matí i les tancaran a les vuit del vespre.
URI:https://www.llagosta.cat/actualitat/noticies/diumenge-estan-cridats-a-les-urnes-mes-de-9600-ciutadans-de-la-llagosta.html
CLASS:PUBLIC
END:VEVENT
END:VCALENDAR
