BEGIN:VCALENDAR
VERSION:2.0
CALSCALE:GREGORIAN
PRODID:-//Diputació de Barcelona//DibaCMS//EN
BEGIN:VEVENT
UID:5568
DTSTAMP:20260423T051111
DTSTART:20121122T000000
DTEND:20131122T000000
SUMMARY:El Joventut Handbol suma una nova victòria contra el Ripollet i consolida el seu liderat
LOCATION:
METHOD:PUBLISH
X-WR-CALNAME:llagosta@llagosta.cat
X-WR-TIMEZONE:Europe/Madrid
DESCRIPTION:El Joventut Handbol La Llagosta continua líder després de guanyar clarament el Ripollet per 39 a 23. Els de la nostra localitat es mantenen com a únic equip invicte del grup A de la Tercera Catalana. El proper cap de setmana, els llagostencs visitaran la pista del Pau Casals de Sabadell.
URI:https://www.llagosta.cat/actualitat/noticies/el-joventut-handbol-suma-una-nova-victoria-contra-el-ripollet-i-consolida-el-seu-liderat.html
CLASS:PUBLIC
END:VEVENT
END:VCALENDAR
