BEGIN:VCALENDAR
VERSION:2.0
CALSCALE:GREGORIAN
PRODID:-//Diputació de Barcelona//DibaCMS//EN
BEGIN:VEVENT
UID:5567
DTSTAMP:20260423T052957
DTSTART:20121122T000000
DTEND:20131122T000000
SUMMARY:Demà, La Llagosta+Activa organitzarà un concert solidari al pàrquing de Caves Boreal
LOCATION:
METHOD:PUBLISH
X-WR-CALNAME:llagosta@llagosta.cat
X-WR-TIMEZONE:Europe/Madrid
DESCRIPTION:El col·lectiu La Llagosta+Activa organitzarà demà un concert solidari. L'objectiu és recaptar diners per poder adquirir productes de primera necessitat destinats a les persones amb menys recursos del nostre municipi. 
URI:https://www.llagosta.cat/actualitat/noticies/dema-la-llagostaactiva-organitzara-un-concert-solidari-al-parquing-de-caves-boreal.html
CLASS:PUBLIC
END:VEVENT
END:VCALENDAR
