BEGIN:VCALENDAR
VERSION:2.0
CALSCALE:GREGORIAN
PRODID:-//Diputació de Barcelona//DibaCMS//EN
BEGIN:VEVENT
UID:5566
DTSTAMP:20260423T130530
DTSTART:20121122T000000
DTEND:20131122T000000
SUMMARY:Iniciativa-Esquerra Unida critica la política de retallades del Govern de CiU
LOCATION:
METHOD:PUBLISH
X-WR-CALNAME:llagosta@llagosta.cat
X-WR-TIMEZONE:Europe/Madrid
DESCRIPTION:La coalició Iniciativa per Catalunya–Esquerra Unida i Alternativa ha demanat avui el vot per tal d'acabar amb les polítiques de retallades, durant un acte que ha portat a terme a la plaça d'Antoni Baqué. Al costat d'aquest espai, ha estat aparcat durant el matí el Bus de les retallades, que la coalició ha passejat per tota Catalunya durant la campanya electoral.
URI:https://www.llagosta.cat/actualitat/noticies/iniciativa-esquerra-unida-critica-la-politica-de-retallades-del-govern-de-ciu.html
CLASS:PUBLIC
END:VEVENT
END:VCALENDAR
