BEGIN:VCALENDAR
VERSION:2.0
CALSCALE:GREGORIAN
PRODID:-//Diputació de Barcelona//DibaCMS//EN
BEGIN:VEVENT
UID:5565
DTSTAMP:20260423T144548
DTSTART:20121122T000000
DTEND:20131122T000000
SUMMARY:El diputat socialista Miquel Iceta demana el vot per al PSC a la Llagosta
LOCATION:
METHOD:PUBLISH
X-WR-CALNAME:llagosta@llagosta.cat
X-WR-TIMEZONE:Europe/Madrid
DESCRIPTION:Miquel Iceta, diputat socialista al Parlament de Catalunya i número onze de la candidatura per Barcelona, ha dit avui a la Llagosta que si els ciutadans no volen retallades ni independència han de votar diumenge el PSC. Iceta ha visitat l'estand que els socialistes llagostencs han muntat aquest matí al costat del mercat setmanal ambulant. 
URI:https://www.llagosta.cat/actualitat/noticies/el-diputat-socialista-miquel-iceta-demana-el-vot-per-al-psc-a-la-llagosta.html
CLASS:PUBLIC
END:VEVENT
END:VCALENDAR
