BEGIN:VCALENDAR
VERSION:2.0
CALSCALE:GREGORIAN
PRODID:-//Diputació de Barcelona//DibaCMS//EN
BEGIN:VEVENT
UID:5564
DTSTAMP:20260423T091919
DTSTART:20121122T000000
DTEND:20131122T000000
SUMMARY:ICV-EUiA va presentar ahir a la Llagosta propostes per regenerar el sistema democràtic
LOCATION:
METHOD:PUBLISH
X-WR-CALNAME:llagosta@llagosta.cat
X-WR-TIMEZONE:Europe/Madrid
DESCRIPTION:Iniciativa per Catalunya–Esquerra Unida i Alternativa va presentar ahir en un acte electoral el document Transparència ètica i radicalitat democràtica. El president d'Iniciativa al Vallès Oriental i número disset de la candidatura d'ICV-EUiA, Jordi Manils, i el vicepresident comarcal de la formació i alcalde de la Llagosta, Alberto López, van parlar de les mesures que planteja al seu programa per regenerar el sistema democràtic.
URI:https://www.llagosta.cat/actualitat/noticies/icv-euia-va-presentar-ahir-a-la-llagosta-propostes-per-regenerar-el-sistema-democratic.html
CLASS:PUBLIC
END:VEVENT
END:VCALENDAR
