BEGIN:VCALENDAR
VERSION:2.0
CALSCALE:GREGORIAN
PRODID:-//Diputació de Barcelona//DibaCMS//EN
BEGIN:VEVENT
UID:5563
DTSTAMP:20260423T111332
DTSTART:20121121T000000
DTEND:20131121T000000
SUMMARY:Demà, reunió entre entitats i Ajuntament per preparar les activitats de Nadal
LOCATION:
METHOD:PUBLISH
X-WR-CALNAME:llagosta@llagosta.cat
X-WR-TIMEZONE:Europe/Madrid
DESCRIPTION:L'Ajuntament de la Llagosta mantindrà demà una reunió amb entitats de la nostra localitat per preparar les festes de Nadal, Cap d'any i Reis. La trobada començarà a dos quarts de vuit del vespre i es farà a la sala de plens de l'edifici consistorial.
URI:https://www.llagosta.cat/actualitat/noticies/dema-reunio-entre-entitats-i-ajuntament-per-preparar-les-activitats-de-nadal.html
CLASS:PUBLIC
END:VEVENT
END:VCALENDAR
