BEGIN:VCALENDAR
VERSION:2.0
CALSCALE:GREGORIAN
PRODID:-//Diputació de Barcelona//DibaCMS//EN
BEGIN:VEVENT
UID:5562
DTSTAMP:20260423T131644
DTSTART:20121121T000000
DTEND:20131121T000000
SUMMARY:ICV-EUiA farà demà a la Llagosta un nou acte electoral dels comicis del 25N
LOCATION:
METHOD:PUBLISH
X-WR-CALNAME:llagosta@llagosta.cat
X-WR-TIMEZONE:Europe/Madrid
DESCRIPTION:Iniciativa per Catalunya–Esquerra Unida i Alternativa portarà demà a la Llagosta el Bus de les retallades. La coalició presentarà les seves propostes de cara a les properes eleccions catalanes. 
URI:https://www.llagosta.cat/actualitat/noticies/icv-euia-fara-dema-a-la-llagosta-un-nou-acte-electoral-dels-comicis-del-25n.html
CLASS:PUBLIC
END:VEVENT
END:VCALENDAR
