BEGIN:VCALENDAR
VERSION:2.0
CALSCALE:GREGORIAN
PRODID:-//Diputació de Barcelona//DibaCMS//EN
BEGIN:VEVENT
UID:5561
DTSTAMP:20260423T202331
DTSTART:20121121T000000
DTEND:20131121T000000
SUMMARY:Miquel Iceta (PSC) participarà demà en un acte electoral a la nostra localitat
LOCATION:
METHOD:PUBLISH
X-WR-CALNAME:llagosta@llagosta.cat
X-WR-TIMEZONE:Europe/Madrid
DESCRIPTION:Miquel Iceta, diputat socialista al Parlament de Catalunya, visitarà demà la Llagosta en el marc de la campanya electoral del Partit dels Socialistes de Catalunya amb motiu dels comicis del proper 25 de novembre. Iceta estarà present a l'estand que el PSC muntarà al costat del mercat setmanal.
URI:https://www.llagosta.cat/actualitat/noticies/miquel-iceta-psc-participara-dema-en-un-acte-electoral-a-la-nostra-localitat.html
CLASS:PUBLIC
END:VEVENT
END:VCALENDAR
