BEGIN:VCALENDAR
VERSION:2.0
CALSCALE:GREGORIAN
PRODID:-//Diputació de Barcelona//DibaCMS//EN
BEGIN:VEVENT
UID:5560
DTSTAMP:20260423T040107
DTSTART:20121121T000000
DTEND:20131121T000000
SUMMARY:El sènior del Vallag rebrà el Palautordera després de descansar la jornada passada
LOCATION:
METHOD:PUBLISH
X-WR-CALNAME:llagosta@llagosta.cat
X-WR-TIMEZONE:Europe/Madrid
DESCRIPTION:L'Handbol Club Vallag rebrà la propera jornada la visita del Palautordera. Els llagostencs tornaran a la competició després d'haver descansat el cap de setmana passat. Els de la nostra localitat es trobaran amb una situació diferent a la de fa dues jornades.
URI:https://www.llagosta.cat/actualitat/noticies/el-senior-del-vallag-rebra-el-palautordera-despres-de-descansar-la-jornada-passada.html
CLASS:PUBLIC
END:VEVENT
END:VCALENDAR
