BEGIN:VCALENDAR
VERSION:2.0
CALSCALE:GREGORIAN
PRODID:-//Diputació de Barcelona//DibaCMS//EN
BEGIN:VEVENT
UID:5559
DTSTAMP:20260423T145116
DTSTART:20121121T000000
DTEND:20131121T000000
SUMMARY:La Policia Local de la Llagosta prova durant aquests dies una motocicleta elèctrica
LOCATION:
METHOD:PUBLISH
X-WR-CALNAME:llagosta@llagosta.cat
X-WR-TIMEZONE:Europe/Madrid
DESCRIPTION:La Policia Local de la Llagosta disposa durant aquesta setmana d'una motocicleta elèctrica, que està provant per tal d'estudiar, en un futur, la possible adquisició mitjançant un sistema de rènting d'aquest tipus de vehicle. 
URI:https://www.llagosta.cat/actualitat/noticies/la-policia-local-de-la-llagosta-prova-durant-aquests-dies-una-motocicleta-electrica.html
CLASS:PUBLIC
END:VEVENT
END:VCALENDAR
