BEGIN:VCALENDAR
VERSION:2.0
CALSCALE:GREGORIAN
PRODID:-//Diputació de Barcelona//DibaCMS//EN
BEGIN:VEVENT
UID:5558
DTSTAMP:20260423T183027
DTSTART:20121121T000000
DTEND:20131121T000000
SUMMARY:El ple de l'Ajuntament de la Llagosta va aprovar ahir diversos tràmits econòmics
LOCATION:
METHOD:PUBLISH
X-WR-CALNAME:llagosta@llagosta.cat
X-WR-TIMEZONE:Europe/Madrid
DESCRIPTION:L'Ajuntament de la Llagosta va aprovar ahir diversos tràmits de l'àrea d'Economia i Hisenda durant la celebració d'un ple extraordinari i urgent. El Partit dels Socialistes es va abstenir en tots els punts per estar en desacord amb la convocatòria urgent de la sessió plenària.
URI:https://www.llagosta.cat/actualitat/noticies/el-ple-de-lajuntament-de-la-llagosta-va-aprovar-ahir-diversos-tramits-economics.html
CLASS:PUBLIC
END:VEVENT
END:VCALENDAR
