BEGIN:VCALENDAR
VERSION:2.0
CALSCALE:GREGORIAN
PRODID:-//Diputació de Barcelona//DibaCMS//EN
BEGIN:VEVENT
UID:5557
DTSTAMP:20260424T015611
DTSTART:20121120T000000
DTEND:20131120T000000
SUMMARY:Demà, es presenta la dissetena edició del Voluntariat per la Llengua a la Llagosta
LOCATION:
METHOD:PUBLISH
X-WR-CALNAME:llagosta@llagosta.cat
X-WR-TIMEZONE:Europe/Madrid
DESCRIPTION:L’Oficina de Català de la Llagosta ha posat en marxa la campanya d'informació de la dissetena edició del programa Voluntariat per la Llengua. El projecte facilita la pràctica de la llengua a aquelles persones que estudien català o que volen practicar-lo però que no tenen ningú amb qui parlar-lo. 
URI:https://www.llagosta.cat/actualitat/noticies/dema-es-presenta-la-dissetena-edicio-del-voluntariat-per-la-llengua-a-la-llagosta.html
CLASS:PUBLIC
END:VEVENT
END:VCALENDAR
