BEGIN:VCALENDAR
VERSION:2.0
CALSCALE:GREGORIAN
PRODID:-//Diputació de Barcelona//DibaCMS//EN
BEGIN:VEVENT
UID:5556
DTSTAMP:20260423T113716
DTSTART:20121120T000000
DTEND:20131120T000000
SUMMARY:En marxa una nova edició de la programació estable d'espectacles per als escolars del municipi
LOCATION:
METHOD:PUBLISH
X-WR-CALNAME:llagosta@llagosta.cat
X-WR-TIMEZONE:Europe/Madrid
DESCRIPTION:L'Ajuntament de la Llagosta ha posat en marxa una nova edició de la programació estable d'espectacles escènics adreçada als escolars del municipi. En total, hi ha previstos 10 espectacles, entre teatre, cinema, titelles i música, dels quals gaudeixen tots els escolars d'infantil i primària.
URI:https://www.llagosta.cat/actualitat/noticies/en-marxa-una-nova-edicio-de-la-programacio-estable-despectacles-per-als-escolars-del-municipi.html
CLASS:PUBLIC
END:VEVENT
END:VCALENDAR
